Name | Last modified | Size | Description | |
---|---|---|---|---|
Parent Directory | - | |||
buildbin-out.txt | 14-Apr-2022 01:06 | 1.8K | ||
buildbin-summary.dcf | 14-Apr-2022 01:06 | 557 | ||
buildsrc-out.txt | 14-Apr-2022 01:06 | 920 | ||
buildsrc-summary.dcf | 14-Apr-2022 01:06 | 470 | ||
checksrc-out.txt | 14-Apr-2022 01:06 | 4.7K | ||
checksrc-summary.dcf | 14-Apr-2022 01:06 | 474 | ||
install-out.txt | 14-Apr-2022 01:06 | 2.6K | ||
install-summary.dcf | 14-Apr-2022 01:06 | 667 | ||