Name | Last modified | Size | Description | |
---|---|---|---|---|
Parent Directory | - | |||
buildbin-out.txt | 14-Apr-2022 01:06 | 2.2K | ||
buildbin-summary.dcf | 14-Apr-2022 01:06 | 545 | ||
buildsrc-out.txt | 14-Apr-2022 01:06 | 910 | ||
buildsrc-summary.dcf | 14-Apr-2022 01:06 | 462 | ||
checksrc-out.txt | 14-Apr-2022 01:06 | 12K | ||
checksrc-summary.dcf | 14-Apr-2022 01:06 | 465 | ||
install-out.txt | 14-Apr-2022 01:06 | 3.1K | ||
install-summary.dcf | 14-Apr-2022 01:06 | 649 | ||