Name | Last modified | Size | Description | |
---|---|---|---|---|
Parent Directory | - | |||
buildbin-out.txt | 14-Apr-2022 01:07 | 2.9K | ||
buildbin-summary.dcf | 14-Apr-2022 01:07 | 521 | ||
buildsrc-out.txt | 14-Apr-2022 01:07 | 890 | ||
buildsrc-summary.dcf | 14-Apr-2022 01:07 | 446 | ||
checksrc-out.txt | 14-Apr-2022 01:07 | 4.8K | ||
checksrc-summary.dcf | 14-Apr-2022 01:07 | 454 | ||
install-out.txt | 14-Apr-2022 01:07 | 3.7K | ||
install-summary.dcf | 14-Apr-2022 01:07 | 613 | ||