Name | Last modified | Size | Description | |
---|---|---|---|---|
Parent Directory | - | |||
buildbin-out.txt | 14-Apr-2022 01:08 | 3.1K | ||
buildbin-summary.dcf | 14-Apr-2022 01:08 | 548 | ||
buildsrc-out.txt | 14-Apr-2022 01:08 | 921 | ||
buildsrc-summary.dcf | 14-Apr-2022 01:08 | 437 | ||
checksrc-out.txt | 14-Apr-2022 01:08 | 4.1K | ||
checksrc-summary.dcf | 14-Apr-2022 01:08 | 462 | ||
install-out.txt | 14-Apr-2022 01:08 | 2.2K | ||
install-summary.dcf | 14-Apr-2022 01:08 | 275 | ||