Name | Last modified | Size | Description | |
---|---|---|---|---|
Parent Directory | - | |||
install-summary.dcf | 14-Apr-2022 01:07 | 613 | ||
install-out.txt | 14-Apr-2022 01:07 | 2.5K | ||
checksrc-summary.dcf | 14-Apr-2022 01:07 | 449 | ||
checksrc-out.txt | 14-Apr-2022 01:07 | 3.5K | ||
buildsrc-summary.dcf | 14-Apr-2022 01:07 | 446 | ||
buildsrc-out.txt | 14-Apr-2022 01:07 | 890 | ||
buildbin-summary.dcf | 14-Apr-2022 01:07 | 520 | ||
buildbin-out.txt | 14-Apr-2022 01:07 | 1.8K | ||