Name | Last modified | Size | Description | |
---|---|---|---|---|
Parent Directory | - | |||
install-out.txt | 14-Apr-2022 01:07 | 3.8K | ||
install-summary.dcf | 14-Apr-2022 01:07 | 668 | ||
buildsrc-out.txt | 14-Apr-2022 01:07 | 1.0K | ||
buildsrc-summary.dcf | 14-Apr-2022 01:07 | 470 | ||
checksrc-out.txt | 14-Apr-2022 01:07 | 4.4K | ||
checksrc-summary.dcf | 14-Apr-2022 01:07 | 480 | ||
buildbin-out.txt | 14-Apr-2022 01:07 | 2.9K | ||
buildbin-summary.dcf | 14-Apr-2022 01:07 | 557 | ||