Name | Last modified | Size | Description | |
---|---|---|---|---|
Parent Directory | - | |||
buildbin-out.txt | 14-Apr-2022 01:07 | 4.1K | ||
buildbin-summary.dcf | 14-Apr-2022 01:07 | 515 | ||
buildsrc-out.txt | 14-Apr-2022 01:07 | 885 | ||
buildsrc-summary.dcf | 14-Apr-2022 01:07 | 443 | ||
checksrc-out.txt | 14-Apr-2022 01:07 | 6.7K | ||
checksrc-summary.dcf | 14-Apr-2022 01:07 | 447 | ||
install-out.txt | 14-Apr-2022 01:07 | 5.0K | ||
install-summary.dcf | 14-Apr-2022 01:07 | 605 | ||