Name | Last modified | Size | Description | |
---|---|---|---|---|
Parent Directory | - | |||
buildbin-out.txt | 14-Apr-2022 01:07 | 5.5K | ||
buildbin-summary.dcf | 14-Apr-2022 01:07 | 551 | ||
buildsrc-out.txt | 14-Apr-2022 01:07 | 887 | ||
buildsrc-summary.dcf | 14-Apr-2022 01:07 | 467 | ||
checksrc-out.txt | 14-Apr-2022 01:07 | 5.6K | ||
checksrc-summary.dcf | 14-Apr-2022 01:07 | 470 | ||
install-out.txt | 14-Apr-2022 01:07 | 6.2K | ||
install-summary.dcf | 14-Apr-2022 01:07 | 659 | ||