Name | Last modified | Size | Description | |
---|---|---|---|---|
Parent Directory | - | |||
buildsrc-out.txt | 14-Apr-2022 01:06 | 844 | ||
buildsrc-summary.dcf | 14-Apr-2022 01:06 | 421 | ||
checksrc-out.txt | 14-Apr-2022 01:06 | 4.1K | ||
checksrc-summary.dcf | 14-Apr-2022 01:06 | 432 | ||
install-out.txt | 14-Apr-2022 01:06 | 2.0K | ||
install-summary.dcf | 14-Apr-2022 01:06 | 263 | ||