Name | Last modified | Size | Description | |
---|---|---|---|---|
Parent Directory | - | |||
buildsrc-out.txt | 14-Apr-2022 01:06 | 873 | ||
buildsrc-summary.dcf | 14-Apr-2022 01:06 | 419 | ||
checksrc-out.txt | 14-Apr-2022 01:06 | 5.4K | ||
checksrc-summary.dcf | 14-Apr-2022 01:06 | 427 | ||
install-out.txt | 14-Apr-2022 01:06 | 958 | ||
install-summary.dcf | 14-Apr-2022 01:06 | 260 | ||