Name | Last modified | Size | Description | |
---|---|---|---|---|
Parent Directory | - | |||
buildbin-out.txt | 14-Apr-2022 01:07 | 1.7K | ||
buildbin-summary.dcf | 14-Apr-2022 01:07 | 536 | ||
buildsrc-out.txt | 14-Apr-2022 01:07 | 928 | ||
buildsrc-summary.dcf | 14-Apr-2022 01:07 | 457 | ||
checksrc-out.txt | 14-Apr-2022 01:07 | 4.3K | ||
checksrc-summary.dcf | 14-Apr-2022 01:07 | 460 | ||
install-out.txt | 14-Apr-2022 01:07 | 2.4K | ||
install-summary.dcf | 14-Apr-2022 01:07 | 635 | ||