Name | Last modified | Size | Description | |
---|---|---|---|---|
Parent Directory | - | |||
buildsrc-summary.dcf | 14-Apr-2022 01:07 | 496 | ||
checksrc-summary.dcf | 14-Apr-2022 01:07 | 500 | ||
buildbin-summary.dcf | 14-Apr-2022 01:07 | 596 | ||
install-summary.dcf | 14-Apr-2022 01:07 | 725 | ||
buildsrc-out.txt | 14-Apr-2022 01:07 | 931 | ||
buildbin-out.txt | 14-Apr-2022 01:07 | 2.0K | ||
install-out.txt | 14-Apr-2022 01:07 | 2.8K | ||
checksrc-out.txt | 14-Apr-2022 01:07 | 4.2K | ||