Name | Last modified | Size | Description | |
---|---|---|---|---|
Parent Directory | - | |||
buildbin-out.txt | 14-Apr-2022 01:07 | 1.5K | ||
buildbin-summary.dcf | 14-Apr-2022 01:07 | 520 | ||
buildsrc-out.txt | 14-Apr-2022 01:07 | 890 | ||
buildsrc-summary.dcf | 14-Apr-2022 01:07 | 446 | ||
checksrc-out.txt | 14-Apr-2022 01:07 | 5.0K | ||
checksrc-summary.dcf | 14-Apr-2022 01:07 | 449 | ||
install-out.txt | 14-Apr-2022 01:07 | 2.2K | ||
install-summary.dcf | 14-Apr-2022 01:07 | 613 | ||