Name | Last modified | Size | Description | |
---|---|---|---|---|
Parent Directory | - | |||
buildsrc-out.txt | 14-Apr-2022 01:05 | 861 | ||
buildsrc-summary.dcf | 14-Apr-2022 01:05 | 410 | ||
checksrc-out.txt | 14-Apr-2022 01:05 | 3.0K | ||
checksrc-summary.dcf | 14-Apr-2022 01:05 | 416 | ||
install-out.txt | 14-Apr-2022 01:05 | 949 | ||
install-summary.dcf | 14-Apr-2022 01:05 | 255 | ||