Name | Last modified | Size | Description | |
---|---|---|---|---|
Parent Directory | - | |||
buildbin-summary.dcf | 14-Apr-2022 01:07 | 536 | ||
buildbin-out.txt | 14-Apr-2022 01:07 | 2.2K | ||
checksrc-out.txt | 14-Apr-2022 01:07 | 6.5K | ||
checksrc-summary.dcf | 14-Apr-2022 01:07 | 464 | ||
buildsrc-summary.dcf | 14-Apr-2022 01:07 | 454 | ||
buildsrc-out.txt | 14-Apr-2022 01:07 | 937 | ||
install-summary.dcf | 14-Apr-2022 01:07 | 634 | ||
install-out.txt | 14-Apr-2022 01:07 | 2.8K | ||