Name | Last modified | Size | Description | |
---|---|---|---|---|
Parent Directory | - | |||
buildbin-out.txt | 14-Apr-2022 01:07 | 5.8K | ||
buildbin-summary.dcf | 14-Apr-2022 01:07 | 516 | ||
buildsrc-out.txt | 14-Apr-2022 01:07 | 857 | ||
buildsrc-summary.dcf | 14-Apr-2022 01:07 | 443 | ||
checksrc-out.txt | 14-Apr-2022 01:07 | 4.3K | ||
checksrc-summary.dcf | 14-Apr-2022 01:07 | 456 | ||
install-out.txt | 14-Apr-2022 01:07 | 6.4K | ||
install-summary.dcf | 14-Apr-2022 01:07 | 605 | ||