Name | Last modified | Size | Description | |
---|---|---|---|---|
Parent Directory | - | |||
buildbin-out.txt | 14-Apr-2022 01:08 | 60K | ||
buildbin-summary.dcf | 14-Apr-2022 01:08 | 537 | ||
buildsrc-out.txt | 14-Apr-2022 01:08 | 898 | ||
buildsrc-summary.dcf | 14-Apr-2022 01:08 | 431 | ||
checksrc-out.txt | 14-Apr-2022 01:08 | 4.3K | ||
checksrc-summary.dcf | 14-Apr-2022 01:08 | 447 | ||
install-out.txt | 14-Apr-2022 01:08 | 59K | ||
install-summary.dcf | 14-Apr-2022 01:08 | 272 | ||