Name | Last modified | Size | Description | |
---|---|---|---|---|
Parent Directory | - | |||
install-out.txt | 14-Apr-2022 01:08 | 108K | ||
install-summary.dcf | 14-Apr-2022 01:08 | 274 | ||
buildsrc-out.txt | 14-Apr-2022 01:08 | 902 | ||
buildsrc-summary.dcf | 14-Apr-2022 01:08 | 434 | ||
checksrc-out.txt | 14-Apr-2022 01:08 | 7.8K | ||
checksrc-summary.dcf | 14-Apr-2022 01:08 | 457 | ||
buildbin-out.txt | 14-Apr-2022 01:08 | 88K | ||
buildbin-summary.dcf | 14-Apr-2022 01:08 | 543 | ||