Name | Last modified | Size | Description | |
---|---|---|---|---|
Parent Directory | - | |||
buildbin-out.txt | 14-Apr-2022 01:08 | 1.3K | ||
buildbin-summary.dcf | 14-Apr-2022 01:08 | 628 | ||
buildsrc-out.txt | 14-Apr-2022 01:08 | 883 | ||
buildsrc-summary.dcf | 14-Apr-2022 01:08 | 476 | ||
checksrc-out.txt | 14-Apr-2022 01:08 | 3.1K | ||
checksrc-summary.dcf | 14-Apr-2022 01:08 | 509 | ||
install-out.txt | 14-Apr-2022 01:08 | 1.0K | ||
install-summary.dcf | 14-Apr-2022 01:08 | 302 | ||