Name | Last modified | Size | Description | |
---|---|---|---|---|
Parent Directory | - | |||
checksrc-out.txt | 14-Apr-2022 01:07 | 4.6K | ||
install-out.txt | 14-Apr-2022 01:07 | 3.2K | ||
buildbin-out.txt | 14-Apr-2022 01:07 | 2.3K | ||
buildsrc-out.txt | 14-Apr-2022 01:07 | 1.1K | ||
install-summary.dcf | 14-Apr-2022 01:07 | 748 | ||
buildbin-summary.dcf | 14-Apr-2022 01:07 | 611 | ||
checksrc-summary.dcf | 14-Apr-2022 01:07 | 516 | ||
buildsrc-summary.dcf | 14-Apr-2022 01:07 | 507 | ||