Name | Last modified | Size | Description | |
---|---|---|---|---|
Parent Directory | - | |||
buildbin-out.txt | 14-Apr-2022 01:07 | 2.2K | ||
buildbin-summary.dcf | 14-Apr-2022 01:07 | 521 | ||
buildsrc-out.txt | 14-Apr-2022 01:07 | 830 | ||
buildsrc-summary.dcf | 14-Apr-2022 01:07 | 446 | ||
checksrc-out.txt | 14-Apr-2022 01:07 | 4.1K | ||
checksrc-summary.dcf | 14-Apr-2022 01:07 | 455 | ||
install-out.txt | 14-Apr-2022 01:07 | 2.8K | ||
install-summary.dcf | 14-Apr-2022 01:07 | 613 | ||