Name | Last modified | Size | Description | |
---|---|---|---|---|
Parent Directory | - | |||
buildbin-out.txt | 14-Apr-2022 01:07 | 6.4K | ||
buildbin-summary.dcf | 14-Apr-2022 01:07 | 594 | ||
buildsrc-out.txt | 14-Apr-2022 01:07 | 1.0K | ||
buildsrc-summary.dcf | 14-Apr-2022 01:07 | 495 | ||
checksrc-out.txt | 14-Apr-2022 01:07 | 6.5K | ||
checksrc-summary.dcf | 14-Apr-2022 01:07 | 498 | ||
install-out.txt | 14-Apr-2022 01:07 | 7.2K | ||
install-summary.dcf | 14-Apr-2022 01:07 | 722 | ||