Name | Last modified | Size | Description | |
---|---|---|---|---|
Parent Directory | - | |||
buildbin-out.txt | 14-Apr-2022 01:08 | 2.8K | ||
buildbin-summary.dcf | 14-Apr-2022 01:08 | 585 | ||
buildsrc-out.txt | 14-Apr-2022 01:08 | 945 | ||
buildsrc-summary.dcf | 14-Apr-2022 01:08 | 455 | ||
checksrc-out.txt | 14-Apr-2022 01:08 | 5.2K | ||
checksrc-summary.dcf | 14-Apr-2022 01:08 | 480 | ||
install-out.txt | 14-Apr-2022 01:08 | 1.9K | ||
install-summary.dcf | 14-Apr-2022 01:08 | 288 | ||