Name | Last modified | Size | Description | |
---|---|---|---|---|
Parent Directory | - | |||
buildbin-out.txt | 14-Apr-2022 01:07 | 2.7K | ||
buildbin-summary.dcf | 14-Apr-2022 01:07 | 539 | ||
buildsrc-out.txt | 14-Apr-2022 01:07 | 905 | ||
buildsrc-summary.dcf | 14-Apr-2022 01:07 | 458 | ||
checksrc-out.txt | 14-Apr-2022 01:07 | 4.5K | ||
checksrc-summary.dcf | 14-Apr-2022 01:07 | 462 | ||
install-out.txt | 14-Apr-2022 01:07 | 3.4K | ||
install-summary.dcf | 14-Apr-2022 01:07 | 641 | ||