Name | Last modified | Size | Description | |
---|---|---|---|---|
Parent Directory | - | |||
buildsrc-out.txt | 14-Apr-2022 01:05 | 754 | ||
buildsrc-summary.dcf | 14-Apr-2022 01:05 | 431 | ||
checksrc-out.txt | 14-Apr-2022 01:05 | 2.7K | ||
checksrc-summary.dcf | 14-Apr-2022 01:05 | 443 | ||
install-out.txt | 14-Apr-2022 01:05 | 1.0K | ||
install-summary.dcf | 14-Apr-2022 01:05 | 269 | ||