Name | Last modified | Size | Description | |
---|---|---|---|---|
Parent Directory | - | |||
install-summary.dcf | 14-Apr-2022 01:07 | 297 | ||
buildsrc-summary.dcf | 14-Apr-2022 01:07 | 461 | ||
checksrc-summary.dcf | 14-Apr-2022 01:07 | 468 | ||
buildbin-summary.dcf | 14-Apr-2022 01:07 | 535 | ||
buildsrc-out.txt | 14-Apr-2022 01:07 | 1.0K | ||
install-out.txt | 14-Apr-2022 01:07 | 4.5K | ||
buildbin-out.txt | 14-Apr-2022 01:07 | 4.5K | ||
checksrc-out.txt | 14-Apr-2022 01:07 | 25K | ||