Name | Last modified | Size | Description | |
---|---|---|---|---|
Parent Directory | - | |||
buildbin-out.txt | 14-Apr-2022 01:07 | 1.9K | ||
buildbin-summary.dcf | 14-Apr-2022 01:07 | 519 | ||
buildsrc-out.txt | 14-Apr-2022 01:07 | 927 | ||
buildsrc-summary.dcf | 14-Apr-2022 01:07 | 446 | ||
checksrc-out.txt | 14-Apr-2022 01:07 | 6.2K | ||
checksrc-summary.dcf | 14-Apr-2022 01:07 | 449 | ||
install-out.txt | 14-Apr-2022 01:07 | 2.6K | ||
install-summary.dcf | 14-Apr-2022 01:07 | 613 | ||