Name | Last modified | Size | Description | |
---|---|---|---|---|
Parent Directory | - | |||
buildbin-out.txt | 14-Apr-2022 01:07 | 1.9K | ||
buildbin-summary.dcf | 14-Apr-2022 01:07 | 561 | ||
buildsrc-out.txt | 14-Apr-2022 01:07 | 865 | ||
buildsrc-summary.dcf | 14-Apr-2022 01:07 | 475 | ||
checksrc-out.txt | 14-Apr-2022 01:07 | 5.2K | ||
checksrc-summary.dcf | 14-Apr-2022 01:07 | 485 | ||
install-out.txt | 14-Apr-2022 01:07 | 2.6K | ||
install-summary.dcf | 14-Apr-2022 01:07 | 676 | ||