Name | Last modified | Size | Description | |
---|---|---|---|---|
Parent Directory | - | |||
buildsrc-out.txt | 14-Apr-2022 01:05 | 822 | ||
buildsrc-summary.dcf | 14-Apr-2022 01:05 | 428 | ||
checksrc-out.txt | 14-Apr-2022 01:05 | 4.7K | ||
checksrc-summary.dcf | 14-Apr-2022 01:05 | 444 | ||
install-out.txt | 14-Apr-2022 01:05 | 959 | ||
install-summary.dcf | 14-Apr-2022 01:05 | 267 | ||