Name | Last modified | Size | Description | |
---|---|---|---|---|
Parent Directory | - | |||
buildsrc-out.txt | 14-Apr-2022 01:05 | 885 | ||
buildsrc-summary.dcf | 14-Apr-2022 01:05 | 430 | ||
checksrc-out.txt | 14-Apr-2022 01:05 | 3.1K | ||
checksrc-summary.dcf | 14-Apr-2022 01:05 | 439 | ||
install-out.txt | 14-Apr-2022 01:05 | 967 | ||
install-summary.dcf | 14-Apr-2022 01:05 | 266 | ||