Index of /checkResults/3.14/bioc-LATEST/Onassis/raw-results/machv2
Name
Last modified
Size
Description
Parent Directory
-
install-out.txt
14-Apr-2022 01:08
683
install-summary.dcf
14-Apr-2022 01:08
271
buildsrc-out.txt
14-Apr-2022 01:08
892
buildsrc-summary.dcf
14-Apr-2022 01:08
342