Name | Last modified | Size | Description | |
---|---|---|---|---|
Parent Directory | - | |||
install-summary.dcf | 14-Apr-2022 01:08 | 288 | ||
install-out.txt | 14-Apr-2022 01:08 | 1.0K | ||
checksrc-summary.dcf | 14-Apr-2022 01:08 | 482 | ||
checksrc-out.txt | 14-Apr-2022 01:08 | 3.8K | ||
buildsrc-summary.dcf | 14-Apr-2022 01:08 | 455 | ||
buildsrc-out.txt | 14-Apr-2022 01:08 | 855 | ||
buildbin-summary.dcf | 14-Apr-2022 01:08 | 587 | ||
buildbin-out.txt | 14-Apr-2022 01:08 | 1.2K | ||