Name | Last modified | Size | Description | |
---|---|---|---|---|
Parent Directory | - | |||
install-summary.dcf | 14-Apr-2022 01:08 | 295 | ||
install-out.txt | 14-Apr-2022 01:08 | 1.0K | ||
checksrc-summary.dcf | 14-Apr-2022 01:08 | 502 | ||
checksrc-out.txt | 14-Apr-2022 01:08 | 3.7K | ||
buildsrc-summary.dcf | 14-Apr-2022 01:08 | 467 | ||
buildsrc-out.txt | 14-Apr-2022 01:08 | 868 | ||
buildbin-summary.dcf | 14-Apr-2022 01:08 | 608 | ||
buildbin-out.txt | 14-Apr-2022 01:08 | 1.3K | ||