Name | Last modified | Size | Description | |
---|---|---|---|---|
Parent Directory | - | |||
checksrc-out.txt | 12-Apr-2022 01:05 | 36K | ||
checksrc-summary.dcf | 12-Apr-2022 01:05 | 430 | ||
install-out.txt | 14-Apr-2022 01:05 | 1.0K | ||
install-summary.dcf | 14-Apr-2022 01:05 | 259 | ||
buildsrc-out.txt | 14-Apr-2022 01:05 | 4.8K | ||
buildsrc-summary.dcf | 14-Apr-2022 01:05 | 333 | ||