Name | Last modified | Size | Description | |
---|---|---|---|---|
Parent Directory | - | |||
checksrc-out.txt | 14-Apr-2022 01:06 | 4.1K | ||
install-out.txt | 14-Apr-2022 01:06 | 2.2K | ||
buildbin-out.txt | 14-Apr-2022 01:06 | 1.5K | ||
buildsrc-out.txt | 14-Apr-2022 01:06 | 1.1K | ||
install-summary.dcf | 14-Apr-2022 01:06 | 757 | ||
buildbin-summary.dcf | 14-Apr-2022 01:06 | 616 | ||
checksrc-summary.dcf | 14-Apr-2022 01:06 | 513 | ||
buildsrc-summary.dcf | 14-Apr-2022 01:06 | 510 | ||