Name | Last modified | Size | Description | |
---|---|---|---|---|
Parent Directory | - | |||
install-summary.dcf | 14-Apr-2022 01:06 | 635 | ||
install-out.txt | 14-Apr-2022 01:06 | 13K | ||
checksrc-summary.dcf | 14-Apr-2022 01:06 | 462 | ||
checksrc-out.txt | 14-Apr-2022 01:06 | 1.4K | ||
buildsrc-summary.dcf | 14-Apr-2022 01:06 | 457 | ||
buildsrc-out.txt | 14-Apr-2022 01:06 | 876 | ||
buildbin-summary.dcf | 14-Apr-2022 01:06 | 537 | ||
buildbin-out.txt | 14-Apr-2022 01:06 | 12K | ||