Name | Last modified | Size | Description | |
---|---|---|---|---|
Parent Directory | - | |||
buildsrc-out.txt | 14-Apr-2022 01:05 | 862 | ||
buildsrc-summary.dcf | 14-Apr-2022 01:05 | 429 | ||
checksrc-out.txt | 14-Apr-2022 01:05 | 3.7K | ||
checksrc-summary.dcf | 14-Apr-2022 01:05 | 440 | ||
install-out.txt | 14-Apr-2022 01:05 | 959 | ||
install-summary.dcf | 14-Apr-2022 01:05 | 267 | ||