Name | Last modified | Size | Description | |
---|---|---|---|---|
Parent Directory | - | |||
install-summary.dcf | 14-Apr-2022 01:05 | 259 | ||
install-out.txt | 14-Apr-2022 01:05 | 1.2K | ||
checksrc-summary.dcf | 14-Apr-2022 01:05 | 424 | ||
checksrc-out.txt | 14-Apr-2022 01:05 | 3.4K | ||
buildsrc-summary.dcf | 14-Apr-2022 01:05 | 418 | ||
buildsrc-out.txt | 14-Apr-2022 01:05 | 869 | ||