Index of /checkResults/3.14/bioc-LATEST/HiCBricks/raw-results/machv2
Name
Last modified
Size
Description
Parent Directory
-
install-out.txt
14-Apr-2022 01:08
1.0K
install-summary.dcf
14-Apr-2022 01:08
273
buildsrc-out.txt
14-Apr-2022 01:08
1.3K
buildsrc-summary.dcf
14-Apr-2022 01:08
347