Name | Last modified | Size | Description | |
---|---|---|---|---|
Parent Directory | - | |||
buildbin-out.txt | 14-Apr-2022 01:06 | 2.5K | ||
buildbin-summary.dcf | 14-Apr-2022 01:06 | 554 | ||
buildsrc-out.txt | 14-Apr-2022 01:06 | 859 | ||
buildsrc-summary.dcf | 14-Apr-2022 01:06 | 469 | ||
checksrc-out.txt | 14-Apr-2022 01:06 | 6.1K | ||
checksrc-summary.dcf | 14-Apr-2022 01:06 | 473 | ||
install-out.txt | 14-Apr-2022 01:06 | 3.4K | ||
install-summary.dcf | 14-Apr-2022 01:06 | 662 | ||