Name | Last modified | Size | Description | |
---|---|---|---|---|
Parent Directory | - | |||
buildbin-out.txt | 14-Apr-2022 01:06 | 13K | ||
buildbin-summary.dcf | 14-Apr-2022 01:06 | 537 | ||
buildsrc-out.txt | 14-Apr-2022 01:06 | 936 | ||
buildsrc-summary.dcf | 14-Apr-2022 01:06 | 457 | ||
checksrc-out.txt | 14-Apr-2022 01:06 | 5.9K | ||
checksrc-summary.dcf | 14-Apr-2022 01:06 | 460 | ||
install-out.txt | 14-Apr-2022 01:06 | 14K | ||
install-summary.dcf | 14-Apr-2022 01:06 | 635 | ||