Name | Last modified | Size | Description | |
---|---|---|---|---|
Parent Directory | - | |||
buildsrc-out.txt | 14-Apr-2022 01:08 | 5.3K | ||
checksrc-out.txt | 31-Mar-2022 01:05 | 3.5K | ||
buildbin-out.txt | 31-Mar-2022 01:05 | 1.2K | ||
install-out.txt | 14-Apr-2022 01:08 | 1.0K | ||
buildbin-summary.dcf | 31-Mar-2022 01:05 | 596 | ||
checksrc-summary.dcf | 31-Mar-2022 01:05 | 488 | ||
buildsrc-summary.dcf | 14-Apr-2022 01:08 | 365 | ||
install-summary.dcf | 14-Apr-2022 01:08 | 291 | ||