Name | Last modified | Size | Description | |
---|---|---|---|---|
Parent Directory | - | |||
buildbin-out.txt | 14-Apr-2022 01:06 | 6.4K | ||
buildbin-summary.dcf | 14-Apr-2022 01:06 | 575 | ||
buildsrc-out.txt | 14-Apr-2022 01:06 | 1.0K | ||
buildsrc-summary.dcf | 14-Apr-2022 01:06 | 482 | ||
checksrc-out.txt | 14-Apr-2022 01:06 | 4.7K | ||
checksrc-summary.dcf | 14-Apr-2022 01:06 | 485 | ||
install-out.txt | 14-Apr-2022 01:06 | 7.1K | ||
install-summary.dcf | 14-Apr-2022 01:06 | 694 | ||