Name | Last modified | Size | Description | |
---|---|---|---|---|
Parent Directory | - | |||
install-summary.dcf | 14-Apr-2022 01:06 | 649 | ||
install-out.txt | 14-Apr-2022 01:06 | 2.4K | ||
checksrc-summary.dcf | 14-Apr-2022 01:06 | 466 | ||
checksrc-out.txt | 14-Apr-2022 01:06 | 5.0K | ||
buildsrc-summary.dcf | 14-Apr-2022 01:06 | 462 | ||
buildsrc-out.txt | 14-Apr-2022 01:06 | 910 | ||
buildbin-summary.dcf | 14-Apr-2022 01:06 | 545 | ||
buildbin-out.txt | 14-Apr-2022 01:06 | 1.6K | ||