Name | Last modified | Size | Description | |
---|---|---|---|---|
Parent Directory | - | |||
buildbin-summary.dcf | 14-Apr-2022 01:06 | 554 | ||
buildbin-out.txt | 14-Apr-2022 01:06 | 341K | ||
checksrc-summary.dcf | 14-Apr-2022 01:06 | 472 | ||
checksrc-out.txt | 14-Apr-2022 01:06 | 16K | ||
buildsrc-summary.dcf | 14-Apr-2022 01:06 | 469 | ||
buildsrc-out.txt | 14-Apr-2022 01:06 | 891 | ||
install-out.txt | 14-Apr-2022 01:06 | 342K | ||
install-summary.dcf | 14-Apr-2022 01:06 | 662 | ||