Name | Last modified | Size | Description | |
---|---|---|---|---|
Parent Directory | - | |||
install-out.txt | 14-Apr-2022 01:08 | 1.8K | ||
install-summary.dcf | 14-Apr-2022 01:08 | 260 | ||
buildsrc-out.txt | 14-Apr-2022 01:08 | 869 | ||
buildsrc-summary.dcf | 14-Apr-2022 01:08 | 414 | ||
checksrc-out.txt | 14-Apr-2022 01:08 | 3.4K | ||
checksrc-summary.dcf | 14-Apr-2022 01:08 | 426 | ||
buildbin-out.txt | 14-Apr-2022 01:08 | 2.5K | ||
buildbin-summary.dcf | 14-Apr-2022 01:08 | 503 | ||