Index of /checkResults/3.14/bioc-LATEST/GOSemSim/raw-results
Name
Last modified
Size
Description
Parent Directory
-
machv2/
14-Apr-2022 01:08
-
info.dcf
14-Apr-2022 01:08
278
tokay2/
14-Apr-2022 01:06
-
nebbiolo2/
14-Apr-2022 01:05
-