Name | Last modified | Size | Description | |
---|---|---|---|---|
Parent Directory | - | |||
buildbin-out.txt | 14-Apr-2022 01:06 | 1.4K | ||
buildbin-summary.dcf | 14-Apr-2022 01:06 | 559 | ||
buildsrc-out.txt | 14-Apr-2022 01:06 | 901 | ||
buildsrc-summary.dcf | 14-Apr-2022 01:06 | 472 | ||
checksrc-out.txt | 14-Apr-2022 01:06 | 3.6K | ||
checksrc-summary.dcf | 14-Apr-2022 01:06 | 476 | ||
install-out.txt | 14-Apr-2022 01:06 | 2.1K | ||
install-summary.dcf | 14-Apr-2022 01:06 | 670 | ||