Name | Last modified | Size | Description | |
---|---|---|---|---|
Parent Directory | - | |||
install-out.txt | 14-Apr-2022 01:06 | 2.6K | ||
install-summary.dcf | 14-Apr-2022 01:06 | 604 | ||
buildsrc-out.txt | 14-Apr-2022 01:06 | 862 | ||
buildsrc-summary.dcf | 14-Apr-2022 01:06 | 442 | ||
checksrc-out.txt | 14-Apr-2022 01:06 | 3.8K | ||
checksrc-summary.dcf | 14-Apr-2022 01:06 | 446 | ||
buildbin-out.txt | 14-Apr-2022 01:06 | 2.0K | ||
buildbin-summary.dcf | 14-Apr-2022 01:06 | 515 | ||