Name | Last modified | Size | Description | |
---|---|---|---|---|
Parent Directory | - | |||
install-summary.dcf | 14-Apr-2022 01:06 | 294 | ||
install-out.txt | 14-Apr-2022 01:06 | 2.2K | ||
checksrc-summary.dcf | 14-Apr-2022 01:06 | 458 | ||
checksrc-out.txt | 14-Apr-2022 01:06 | 3.4K | ||
buildsrc-summary.dcf | 14-Apr-2022 01:06 | 458 | ||
buildsrc-out.txt | 14-Apr-2022 01:06 | 841 | ||
buildbin-summary.dcf | 14-Apr-2022 01:06 | 529 | ||
buildbin-out.txt | 14-Apr-2022 01:06 | 2.3K | ||